

BEGIN:VCALENDAR
VERSION:2.0
PRODID:-//Claremont Process Nexus - ECPv6.15.20//NONSGML v1.0//EN
CALSCALE:GREGORIAN
METHOD:PUBLISH
X-ORIGINAL-URL:https://processnexus.net
X-WR-CALDESC:Events for Claremont Process Nexus
REFRESH-INTERVAL;VALUE=DURATION:PT1H
X-Robots-Tag:noindex
X-PUBLISHED-TTL:PT1H
BEGIN:VTIMEZONE
TZID:America/Los_Angeles
BEGIN:DAYLIGHT
TZOFFSETFROM:-0800
TZOFFSETTO:-0700
TZNAME:PDT
DTSTART:20200308T100000
END:DAYLIGHT
BEGIN:STANDARD
TZOFFSETFROM:-0700
TZOFFSETTO:-0800
TZNAME:PST
DTSTART:20201101T090000
END:STANDARD
BEGIN:DAYLIGHT
TZOFFSETFROM:-0800
TZOFFSETTO:-0700
TZNAME:PDT
DTSTART:20210314T100000
END:DAYLIGHT
BEGIN:STANDARD
TZOFFSETFROM:-0700
TZOFFSETTO:-0800
TZNAME:PST
DTSTART:20211107T090000
END:STANDARD
BEGIN:DAYLIGHT
TZOFFSETFROM:-0800
TZOFFSETTO:-0700
TZNAME:PDT
DTSTART:20220313T100000
END:DAYLIGHT
BEGIN:STANDARD
TZOFFSETFROM:-0700
TZOFFSETTO:-0800
TZNAME:PST
DTSTART:20221106T090000
END:STANDARD
END:VTIMEZONE
BEGIN:VEVENT
DTSTART;TZID=America/Los_Angeles:20211119T050000
DTEND;TZID=America/Los_Angeles:20211119T200000
DTSTAMP:20260414T233607
CREATED:20211106T025234Z
LAST-MODIFIED:20211118T051451Z
UID:2694-1637298000-1637352000@processnexus.net
SUMMARY:What Are Poets For in the Age of Ecological Civilization: The Contributions of Process Poetry
DESCRIPTION:The purpose of the Forum is to bring together creative process poets and process thinkers from US\, China\, Russia\, Europe\, and other countries to share their poems as well as their understanding of process poetry. These poems invite us into a process of being aware and mindful\, open and caring\, self-confident and free. They invite us to imagine communities of love and wonder\, kindness and creativity. Through poetry we explore the possibilities for building what we call compassionate communities and an ecological civilization. We are capable of changing our world\, but first we must imagine together. \n\n\n\n\nrsvp nOW
URL:https://processnexus.net/event/what-are-poets-for-in-the-age-of-ecological-civilization-the-contributions-of-process-poetry/
ATTACH;FMTTYPE=image/png:https://processnexus.net/wp-content/uploads/2021/11/International-Forum-on-Process-Poetry-Facebook-Cover-1.png
END:VEVENT
BEGIN:VEVENT
DTSTART;TZID=America/Los_Angeles:20211113T080000
DTEND;TZID=America/Los_Angeles:20211113T100000
DTSTAMP:20260414T233607
CREATED:20211005T034311Z
LAST-MODIFIED:20211016T213242Z
UID:2610-1636790400-1636797600@processnexus.net
SUMMARY:Tim Eastman Unties the Gordian Knot
DESCRIPTION:On the second Saturday of each month\, from June 2021 thru January 2022\, Tim Eastman will engage in a conversation with other scholars about his new book\, Untying the Gordian Knot: Process\, Reality\, and Context. \n\n\n\nSponsored by the Science Advisory Committee at the Cobb Institute. \n\n\n\n\nRSVP NOW
URL:https://processnexus.net/event/tim-eastman-unties-the-gordian-knot-2021-11-13/
CATEGORIES:Webinar
ATTACH;FMTTYPE=image/png:https://processnexus.net/wp-content/uploads/2021/10/Tim-Eastman-Unties-the-Gordian-Knot-featured-image-website.png
END:VEVENT
BEGIN:VEVENT
DTSTART;TZID=America/Los_Angeles:20211106T130000
DTEND;TZID=America/Los_Angeles:20211106T170000
DTSTAMP:20260414T233607
CREATED:20211106T034631Z
LAST-MODIFIED:20211112T213433Z
UID:2706-1636203600-1636218000@processnexus.net
SUMMARY:Lopez Farm Dia De Los Muertos
DESCRIPTION:We hope you will join us this weekend as our friends The Latino & Latina Roundtable host Dia De Los Muertos on the farm! The event will include crafts\, spoken word\, dancing\, ceremony\, and an altar designed by community members. Everything is free to the community and open to all! \n\n\n\n\n\n\n\nLopez Urban Farm is a community based collaborative between local community groups\, organizations\, businesses\, universities\, teachers\, students\, and community members – that will come together to create a working urban farm using the 2.5 acre lot that will ultimately provide: greater access to clean food\, knowledge about growing your own food without chemicals\, nutrition education\, environmental education\, school garden trainings\, and access to clean and safe green space.
URL:https://processnexus.net/event/lopez-farm-dia-de-los-muertos/
ATTACH;FMTTYPE=image/png:https://processnexus.net/wp-content/uploads/2021/11/Dia-de-Muertos.png
END:VEVENT
BEGIN:VEVENT
DTSTART;TZID=America/Los_Angeles:20211026T173000
DTEND;TZID=America/Los_Angeles:20211026T190000
DTSTAMP:20260414T233607
CREATED:20211021T165429Z
LAST-MODIFIED:20211022T052214Z
UID:2584-1635269400-1635274800@processnexus.net
SUMMARY:Flagstaff College: The Flagstaff 3.5% Reading-Action Project
DESCRIPTION:October 26-November 18\, 2021: A community-wide reading-action project focused on the climate crisis. We’re reading Kim Stanley Robinson’s\, The Ministry for the Future (face-to-face and online groups available) and gathering via Zoom for three in-depth presentations on topics related to the book. All are welcome to join. To sign up go to our website at www.FlagstaffCollege.education/rag. When 3.5% of the population actively engages\, social change can happen!
URL:https://processnexus.net/event/flagstaff-college-the-flagstaff-3-5-reading-action-project/
CATEGORIES:Action Group
ATTACH;FMTTYPE=image/jpeg:https://processnexus.net/wp-content/uploads/2021/10/FlagCollegeLogo.jpg
ORGANIZER;CN="SandraLubarsky@gmail.com":MAILTO:SandraLubarsky@gmail.com
END:VEVENT
BEGIN:VEVENT
DTSTART;TZID=America/Los_Angeles:20211009T080000
DTEND;TZID=America/Los_Angeles:20211009T100000
DTSTAMP:20260414T233607
CREATED:20211005T034311Z
LAST-MODIFIED:20211005T043914Z
UID:2606-1633766400-1633773600@processnexus.net
SUMMARY:Tim Eastman Unties the Gordian Knot
DESCRIPTION:On the second Saturday of each month\, from June 2021 thru January 2022\, Tim Eastman will engage in a conversation with other scholars about his new book\, Untying the Gordian Knot: Process\, Reality\, and Context. \n\n\n\nSponsored by the Science Advisory Committee at the Cobb Institute. \n\n\n\n\nRSVP NOW
URL:https://processnexus.net/event/tim-eastman-unties-the-gordian-knot/
CATEGORIES:Webinar
ATTACH;FMTTYPE=image/png:https://processnexus.net/wp-content/uploads/2021/10/Tim-Eastman-Unties-the-Gordian-Knot-featured-image-website.png
END:VEVENT
BEGIN:VEVENT
DTSTART;TZID=America/Los_Angeles:20211002T100000
DTEND;TZID=America/Los_Angeles:20211002T110000
DTSTAMP:20260414T233607
CREATED:20210608T214707Z
LAST-MODIFIED:20210930T060414Z
UID:42-1633168800-1633172400@processnexus.net
SUMMARY:CPN Kickoff Celebration
DESCRIPTION:What is the Claremont Process Nexus? A network of organizations and individuals that affirm process-relational ways of understanding and living. \n\n\n\nWho belongs to the Nexus? People who share common views and values\, and desire to live out those views and values in ways that are beneficial to all. \n\n\n\nWhat is the purpose of the Nexus? To bring together anyone in the process movement from anywhere the world in order to increase communications\, facilitate interactions\, and deepen relationships between them. \n\n\n\nWhy join the Nexus? To interact with and learn from like-minded people\, contribute to a collaborative endeavor that is mutually beneficial\, and belong to a community of communities that affirms that we should live with respect and care for one another and the larger community of life. \n\n\n\n\n\n\n\n\n\n\n\n\n\n\n\nUnder the leadership of John Cobb and representatives from the Center for Process Studies\, the Institute for Ecological Civilization\, Pando Populus\, and the Cobb Institute\, almost thirty organizations have agreed to participate in a new adventure: the Claremont Process Nexus. In doing so\, the Nexus has become a visible example of what Whitehead called the “creative advance into novelty.” \n\n\n\nOn October 2nd at 10:00 AM Pacific\, we’re hosting an event to celebrate the launch of the Nexus and the opening of the online platform that will be used to facilitate its aims. Please join us as we mark this important development in the history of the process movement. \n\n\n\nRSVP below in order to receive the Zoom meeting information\, and to help us know how many people to expect. \n\n\n\n\n\n\n\n\n\nTo RSVP click on the “Going” button\, fill in your name and email\, and you will be emailed a confirmation with the Zoom info.
URL:https://processnexus.net/event/cpn-kickoff-event/
LOCATION:Online Gathering
CATEGORIES:Celebration
ATTACH;FMTTYPE=image/png:https://processnexus.net/wp-content/uploads/2021/09/CPN-Launch-Event-featured-image.png
ORGANIZER;CN="Claremont Process Nexus":MAILTO:events@processnexus.net
END:VEVENT
BEGIN:VEVENT
DTSTART;TZID=America/Los_Angeles:20210925T180000
DTEND;TZID=America/Los_Angeles:20210925T193000
DTSTAMP:20260414T233607
CREATED:20210919T214804Z
LAST-MODIFIED:20210920T070541Z
UID:2397-1632592800-1632598200@processnexus.net
SUMMARY:Reparations:  Why and How
DESCRIPTION:We are on the cusp of a major social\, moral and ethical revolution that will transform the African-American community for generations IF PROGRESSIVE ALLIES HELP. This event will provide the why and the how of America’s reckoning with systemic racism and its response. Maulana Karenga\, PhD and Rabbi Steven Jacobs\, hosted by Rev. Louis Chase share the why and how. \n\n\n\nMaulana Karenga will speak to the urgency\, the reckoning and the call to action for what our nation needs to do. He will talk about a new start where all systems are called to work together for people to thrive and for us to create justice for our community. Although money is important\, it alone will not be enough to repair the damage caused by 400 years of systemic racism. \n\n\n\nRabbi Steven Jacobs will bring a historical and biblical account of reparations from a Jewish perspective. \n\n\n\n$15 for adults and $5 for students \n\n\n\n\nREGISTER NOW
URL:https://processnexus.net/event/reparations-why-and-how/
CATEGORIES:Webinar
ATTACH;FMTTYPE=image/jpeg:https://processnexus.net/wp-content/uploads/2021/09/Reparations-flyer-cropped.jpg
END:VEVENT
BEGIN:VEVENT
DTSTART;TZID=America/Los_Angeles:20210718T000000
DTEND;TZID=America/Los_Angeles:20211001T235900
DTSTAMP:20260414T233607
CREATED:20210608T214601Z
LAST-MODIFIED:20210903T212215Z
UID:40-1626566400-1633132740@processnexus.net
SUMMARY:CPN Platform Launch Phase
DESCRIPTION:The first phase of the CPN online platform begins. Member organizations will be able to sign up\, begin using\, and help test the platform in preparation for the public launch and kickoff event.
URL:https://processnexus.net/event/cpn-platform-launch/
ATTACH;FMTTYPE=image/png:https://processnexus.net/wp-content/uploads/2021/07/platform-launch.png
ORGANIZER;CN="Claremont Process Nexus":MAILTO:events@processnexus.net
END:VEVENT
END:VCALENDAR